BEGIN:VCALENDAR
VERSION:2.0
PRODID:icalendar-ruby
CALSCALE:GREGORIAN
BEGIN:VEVENT
DTSTAMP:20210119T215532Z
UID:b3cbe194-6926-4218-9794-cbcc1daadd82
DTSTART;VALUE=DATE:20201024
DESCRIPTION:Property ID# 653970\, Locatoin: On site 1.30pm\, Time: 1:00PM
SUMMARY:Auction for 
END:VEVENT
END:VCALENDAR
